BEGIN:VCALENDAR
VERSION:2.0
PRODID:-//RC Sailing - ECPv5.3.1.1//NONSGML v1.0//EN
CALSCALE:GREGORIAN
METHOD:PUBLISH
X-WR-CALNAME:RC Sailing
X-ORIGINAL-URL:https://rcsailing.cz
X-WR-CALDESC:Akce na RC Sailing
BEGIN:VTIMEZONE
TZID:Europe/Prague
BEGIN:DAYLIGHT
TZOFFSETFROM:+0100
TZOFFSETTO:+0200
TZNAME:CEST
DTSTART:20260329T010000
END:DAYLIGHT
BEGIN:STANDARD
TZOFFSETFROM:+0200
TZOFFSETTO:+0100
TZNAME:CET
DTSTART:20261025T010000
END:STANDARD
END:VTIMEZONE
BEGIN:VEVENT
DTSTART;VALUE=DATE:20260328
DTEND;VALUE=DATE:20260330
DTSTAMP:20260420T162533
CREATED:20251203T184954Z
LAST-MODIFIED:20260128T141121Z
UID:1505-1774656000-1774828799@rcsailing.cz
SUMMARY:RG65 - Barešův ranč - veřejná soutěž
DESCRIPTION:Registrovaní účastnícíPavel Novotny   - cze-01 Ladislav Jareš   - CZE95 Alexander Sadílek   - CZE 44 Michal Sýkora   - CZE 38 Pavel Zajíc   - Cze29 Lukáš Kaláb   - CZE 50 Václav Vaněk   - CZE - 71 Petr Mlejnecky   - CZE 176 Zdeněk Pavlíček   - CZE12 Aleš Pokorný   - CZE 84 Viktor Sadilek   - Cze40 Michal Hřebeček   - CZE165
URL:https://rcsailing.cz/udalost/rg65-baresuv-ranc-verejna-soutez/
LOCATION:Barešův ranč Lužec\, Lužec nad Cidlinou 247\, Lužec nad Cidlinou\, 503 62\, Česká republika
ORGANIZER;CN="Klom%20Kol%C3%ADn%20-%20Pavel%20Zaj%C3%ADc":MAILTO:pavel.zajic@veolia.com
END:VEVENT
END:VCALENDAR